BEGIN:VCALENDAR
VERSION:2.0
PRODID:-//ExpressionEngine Easy iCalendar plugin//NONSGML v2.0.0//EN
X-WR-TIMEZONE:America/Chicago
X-WR-CALNAME:Upcoming Auctions
BEGIN:VEVENT
UID:138389
DTSTAMP:20250412T103000
DTSTART:20250412T103000
DTEND:20250412T113000
SUMMARY:HUGE FARM AUCTION
LOCATION:8201 E. 49th Street\, Kansas City\, MO 64129\, US
DESCRIPTION:Isidro & Maria Roldan | Trucks\, Cars\, Trailers\, ATVs\, Shipp
 ing Container\, Tons of Tools\, Equipment\, Building Materials\,
  Horse Tack\, Scrap\, Household Goods\, & Much More!
URL:https://www.auctionskc.com/auctions/detail/bw138389
SEQUENCE:1
END:VEVENT
END:VCALENDAR