BEGIN:VCALENDAR
VERSION:2.0
PRODID:-//ExpressionEngine Easy iCalendar plugin//NONSGML v2.0.0//EN
X-WR-TIMEZONE:America/Chicago
X-WR-CALNAME:Upcoming Auctions
BEGIN:VEVENT
UID:138438
DTSTAMP:20250408T140000
DTSTART:20250408T140000
DTEND:20250408T150000
SUMMARY:HUGE BUSINESS LIQUIDATION AUCTION
LOCATION:9312 E. U.S. 24 Highway\, Independence\, MO 64053\, US
DESCRIPTION:King's Kustoms & ABME Environmental Group | Antiques\, Collec
 tibles\, Shop Tools & Equipment\, Automotive Items\, Furniture\,
  Appliances\, Home Decor\, Household Goods\, & Much More!
URL:https://www.auctionskc.com/auctions/detail/bw138438
SEQUENCE:1
END:VEVENT
END:VCALENDAR