BEGIN:VCALENDAR
VERSION:2.0
PRODID:-//ExpressionEngine Easy iCalendar plugin//NONSGML v2.0.0//EN
X-WR-TIMEZONE:America/Chicago
X-WR-CALNAME:Upcoming Auctions
BEGIN:VEVENT
UID:138762
DTSTAMP:20250415T170000
DTSTART:20250415T170000
DTEND:20250415T180000
SUMMARY:ESTATE AUCTION
LOCATION:1009 SE 3rd Terrace\, Lee's Summit\, MO 64063\, US
DESCRIPTION:Paul & Evelyn Buttram Estate | Truck\, Collectibles\, Furnitur
 e\, Tools\, Appliances\, Home Decor\, Household Goods\, & Much Mo
 re!
URL:https://www.auctionskc.com/auctions/detail/bw138762
SEQUENCE:1
END:VEVENT
END:VCALENDAR