BEGIN:VCALENDAR
VERSION:2.0
PRODID:-//ExpressionEngine Easy iCalendar plugin//NONSGML v2.0.0//EN
X-WR-TIMEZONE:America/Chicago
X-WR-CALNAME:Upcoming Auctions
BEGIN:VEVENT
UID:138797
DTSTAMP:20250418T160000
DTSTART:20250418T160000
DTEND:20250418T170000
SUMMARY:ESTATE AUCTION
LOCATION:1940 NW 200th Road\, Kingsville\, MO 64061\, US
DESCRIPTION:Margaret Ann Cline Estate | Antiques\, Collectibles\, Glasswar
 e\, Large Hot Wheels & Nascar Collection\, Primitives\, Furnitu
 re\, Tools\, Home Decor\, Household Goods\, & Much More!
URL:https://www.auctionskc.com/auctions/detail/bw138797
SEQUENCE:1
END:VEVENT
END:VCALENDAR