BEGIN:VCALENDAR
VERSION:2.0
PRODID:-//ExpressionEngine Easy iCalendar plugin//NONSGML v2.0.0//EN
X-WR-TIMEZONE:America/Chicago
X-WR-CALNAME:Upcoming Auctions
BEGIN:VEVENT
UID:138820
DTSTAMP:20250422T160000
DTSTART:20250422T160000
DTEND:20250422T170000
SUMMARY:REAL ESTATE & PERSONAL PROPERTY AUCTION
LOCATION:7619 Terrace Street\, Kansas City\, MO 64114\, US
DESCRIPTION:Robert & Ruth Hagg Estate | 3 Bedroom Waldo True Ranch PLUSÂ
  Antiques\, Collectibles\, Jewelry\, Furniture\, Tools\, Home Dec
 or\, Household Goods\, & Much More!
URL:https://www.auctionskc.com/auctions/detail/bw138820
SEQUENCE:1
END:VEVENT
END:VCALENDAR