BEGIN:VCALENDAR
VERSION:2.0
PRODID:-//ExpressionEngine Easy iCalendar plugin//NONSGML v2.0.0//EN
X-WR-TIMEZONE:America/Chicago
X-WR-CALNAME:Upcoming Auctions
BEGIN:VEVENT
UID:138858
DTSTAMP:20250503T103000
DTSTART:20250503T103000
DTEND:20250503T110000
SUMMARY:FARM AUCTION
LOCATION:9506 Simedo Drive\, Oskaloosa\, KS 66066\, US
DESCRIPTION:Jacob Jaap Estate | Vehicles\, Equipment\, Trailers\, Sawmill\, 
 Tractors\, Tools\, Scrap\, & Much More!
URL:https://www.auctionskc.com/auctions/detail/bw138858
SEQUENCE:1
END:VEVENT
END:VCALENDAR