BEGIN:VCALENDAR
VERSION:2.0
PRODID:-//ExpressionEngine Easy iCalendar plugin//NONSGML v2.0.0//EN
X-WR-TIMEZONE:America/Chicago
X-WR-CALNAME:Upcoming Auctions
BEGIN:VEVENT
UID:140083
DTSTAMP:20250506T163000
DTSTART:20250506T163000
DTEND:20250506T173000
SUMMARY:PRIVATE CELEBRITY MYSTERY AUCTION PART 2
LOCATION:1350 Woodswether Road\, Kansas City\, MO 64105\, US
DESCRIPTION:Private Seller | Antiques\, Collectibles\, Vintage\, Furniture\,
  Art\, Home Decor\, Household Goods\, & Much More!
URL:https://www.auctionskc.com/auctions/detail/bw140083
SEQUENCE:1
END:VEVENT
END:VCALENDAR