BEGIN:VCALENDAR
VERSION:2.0
PRODID:-//ExpressionEngine Easy iCalendar plugin//NONSGML v2.0.0//EN
X-WR-TIMEZONE:America/Chicago
X-WR-CALNAME:Upcoming Auctions
BEGIN:VEVENT
UID:140159
DTSTAMP:20250509T160000
DTSTART:20250509T160000
DTEND:20250509T170000
SUMMARY:GREAT ANTIQUE ESTATE AUCTION
LOCATION:6161 Locust Street\, Kansas City\, MO 64110\, US
DESCRIPTION:Jane White Brown Estate | Antiques\, Collectibles\, Furniture\,
  Art\, Jewelry\, Home Decor\, Household Goods\, & Much More!
URL:https://www.auctionskc.com/auctions/detail/bw140159
SEQUENCE:1
END:VEVENT
END:VCALENDAR