BEGIN:VCALENDAR
VERSION:2.0
PRODID:-//ExpressionEngine Easy iCalendar plugin//NONSGML v2.0.0//EN
X-WR-TIMEZONE:America/Chicago
X-WR-CALNAME:Upcoming Auctions
BEGIN:VEVENT
UID:140469
DTSTAMP:20250518T110000
DTSTART:20250518T110000
DTEND:20250518T120000
SUMMARY:HUGE 2-RING FARM ESTATE AUCTION
LOCATION:16380 N. 371 Highway\, Platte City\, MO 64079\, US
DESCRIPTION:Donald & Kay Wallace Estate | Collector Car\, Vehicles\, Tract
 ors\, Firearms\, Collectibles\, Furniture\, Tools\, Appliances\, Y
 ard Art\, Home Decor\, Household Goods\, & Much More!
URL:https://www.auctionskc.com/auctions/detail/bw140469
SEQUENCE:1
END:VEVENT
END:VCALENDAR