BEGIN:VCALENDAR
VERSION:2.0
PRODID:-//ExpressionEngine Easy iCalendar plugin//NONSGML v2.0.0//EN
X-WR-TIMEZONE:America/Chicago
X-WR-CALNAME:Upcoming Auctions
BEGIN:VEVENT
UID:140937
DTSTAMP:20250520T170000
DTSTART:20250520T170000
DTEND:20250520T180000
SUMMARY:LAST MINUTE EMERGENCY ESTATE AUCTION
LOCATION:636 S. Fuller Avenue\, Independence\, MO 64052\, US
DESCRIPTION:Judge June A. Short Estate | Antiques\, Collectibles\, Art\, Je
 welry\, Electronics\, Furniture\, Tools\, Yard Art\, Home Decor\, 
 Household Goods\, & Much More!
URL:https://www.auctionskc.com/auctions/detail/bw140937
SEQUENCE:1
END:VEVENT
END:VCALENDAR