BEGIN:VCALENDAR
VERSION:2.0
PRODID:-//ExpressionEngine Easy iCalendar plugin//NONSGML v2.0.0//EN
X-WR-TIMEZONE:America/Chicago
X-WR-CALNAME:Upcoming Auctions
BEGIN:VEVENT
UID:140938
DTSTAMP:20250522T173000
DTSTART:20250522T173000
DTEND:20250522T183000
SUMMARY:GREAT ANTIQUE & ESTATE AUCTION
LOCATION:2605 St. Joseph Avenue\, St. Joseph\, MO 64505\, US
DESCRIPTION:Legacy - Barker Auction House | Antiques\, Collectibles\, Adve
 rtising Signs\, Toys\, Jewelry\, Coins\, Tools\, Furniture\, & Muc
 h More!
URL:https://www.auctionskc.com/auctions/detail/bw140938
SEQUENCE:1
END:VEVENT
END:VCALENDAR