BEGIN:VCALENDAR
VERSION:2.0
PRODID:-//ExpressionEngine Easy iCalendar plugin//NONSGML v2.0.0//EN
X-WR-TIMEZONE:America/Chicago
X-WR-CALNAME:Upcoming Auctions
BEGIN:VEVENT
UID:141109
DTSTAMP:20250527T173000
DTSTART:20250527T173000
DTEND:20250527T183000
SUMMARY:ESTATE AUCTION
LOCATION:1016 NE Remington Court\, Lee's Summit\, MO 64086\, US
DESCRIPTION:Kenneth R. Cobb Estate | Collectibles\, Furniture\, Tools\, Hom
 e Decor\, Household Goods\, & Much More!
URL:https://www.auctionskc.com/auctions/detail/bw141109
SEQUENCE:1
END:VEVENT
END:VCALENDAR