BEGIN:VCALENDAR
VERSION:2.0
PRODID:-//ExpressionEngine Easy iCalendar plugin//NONSGML v2.0.0//EN
X-WR-TIMEZONE:America/Chicago
X-WR-CALNAME:Upcoming Auctions
BEGIN:VEVENT
UID:141295
DTSTAMP:20250531T110000
DTSTART:20250531T110000
DTEND:20250531T120000
SUMMARY:FANTASTIC DOUBLE ESTATE CARAVAN AUCTION
LOCATION:3220 Kempton Court\, Platte City\, MO 64079\, US
DESCRIPTION:Living Estates of Frances Woodward & Gail Fleming | Antiques
 \, Collectibles\, Red Wing\, Longaberger\, Hallmark Keepsakes\, F
 urniture\, Yard Art\, Home Decor\, Household Goods & Much More!
URL:https://www.auctionskc.com/auctions/detail/bw141295
SEQUENCE:1
END:VEVENT
END:VCALENDAR