BEGIN:VCALENDAR
VERSION:2.0
PRODID:-//ExpressionEngine Easy iCalendar plugin//NONSGML v2.0.0//EN
X-WR-TIMEZONE:America/Chicago
X-WR-CALNAME:Upcoming Auctions
BEGIN:VEVENT
UID:141653
DTSTAMP:20250605T180000
DTSTART:20250605T180000
DTEND:20250605T190000
SUMMARY:INDOOR MULTI-ESTATE ANTIQUE AUCTION
LOCATION:2605 St. Joseph Avenue\, St. Joseph\, MO 64505\, US
DESCRIPTION:Multiple Estates | Antiques\, Collectibles\, Vintage\, Coins\, Q
 uilts\, Crocks\, Vintage Toys\, & Much More!
URL:https://www.auctionskc.com/auctions/detail/bw141653
SEQUENCE:1
END:VEVENT
END:VCALENDAR