BEGIN:VCALENDAR
VERSION:2.0
PRODID:-//ExpressionEngine Easy iCalendar plugin//NONSGML v2.0.0//EN
X-WR-TIMEZONE:America/Chicago
X-WR-CALNAME:Upcoming Auctions
BEGIN:VEVENT
UID:141734
DTSTAMP:20250618T183000
DTSTART:20250618T183000
DTEND:20250618T183500
SUMMARY:REAL ESTATE AUCTION
LOCATION:2300 NE 67th Terrace\, Gladstone\, MO 64118\, US
DESCRIPTION:Bill H. Carter Estate | Mid-Century 3 Bedroom Home in Covete
 d "Northaven East!"
URL:https://www.auctionskc.com/auctions/detail/bw141734
SEQUENCE:1
END:VEVENT
END:VCALENDAR