BEGIN:VCALENDAR
VERSION:2.0
PRODID:-//ExpressionEngine Easy iCalendar plugin//NONSGML v2.0.0//EN
X-WR-TIMEZONE:America/Chicago
X-WR-CALNAME:Upcoming Auctions
BEGIN:VEVENT
UID:142105
DTSTAMP:20250611T180000
DTSTART:20250611T180000
DTEND:20250611T190000
SUMMARY:SHORT NOTICE LIVING ESTATE AUCTION
LOCATION:709 N. Michigan Circle\, Lawrence\, KS 66044\, US
DESCRIPTION:Steven Dittman Living Estate | Vehicle\, Collectibles\, Furnit
 ure\, Tools\, Appliances\, Home Decor\, Household Goods\, & Much 
 More!
URL:https://www.auctionskc.com/auctions/detail/bw142105
SEQUENCE:1
END:VEVENT
END:VCALENDAR