BEGIN:VCALENDAR
VERSION:2.0
PRODID:-//ExpressionEngine Easy iCalendar plugin//NONSGML v2.0.0//EN
X-WR-TIMEZONE:America/Chicago
X-WR-CALNAME:Upcoming Auctions
BEGIN:VEVENT
UID:142180
DTSTAMP:20250612T160000
DTSTART:20250612T160000
DTEND:20250612T170000
SUMMARY:HUGE 2-RING ESTATE AUCTION
LOCATION:673 E. Red Road\, Independence\, MO 64055\, US
DESCRIPTION:Estate of Wayne Edwin & Janet Kay Whitehead | Lawn Tractor\, 
 Collectibles\, Jewelry\, Furniture\, Tools\, Home Decor\, Househo
 ld Goods\, & Much More!
URL:https://www.auctionskc.com/auctions/detail/bw142180
SEQUENCE:1
END:VEVENT
END:VCALENDAR