BEGIN:VCALENDAR
VERSION:2.0
PRODID:-//ExpressionEngine Easy iCalendar plugin//NONSGML v2.0.0//EN
X-WR-TIMEZONE:America/Chicago
X-WR-CALNAME:Upcoming Auctions
BEGIN:VEVENT
UID:142410
DTSTAMP:20250621T103000
DTSTART:20250621T103000
DTEND:20250621T113000
SUMMARY:HUGE 2-RING LIFETIME COLLECTOR'S ESTATE AUCTION
LOCATION:24475 W. 83rd Street\, Lenexa\, KS 66227\, US
DESCRIPTION:Rosemary Krump Estate | Dolls\, Barbies\, Many Antiques & Coll
 ectibles\, Jewelry\, Vintage\, Furniture\, Tools\, Home Decor\, Ho
 usehold Goods\, & Much More!
URL:https://www.auctionskc.com/auctions/detail/bw142410
SEQUENCE:1
END:VEVENT
END:VCALENDAR