BEGIN:VCALENDAR
VERSION:2.0
PRODID:-//ExpressionEngine Easy iCalendar plugin//NONSGML v2.0.0//EN
X-WR-TIMEZONE:America/Chicago
X-WR-CALNAME:Upcoming Auctions
BEGIN:VEVENT
UID:142431
DTSTAMP:20250630T184000
DTSTART:20250630T184000
DTEND:20250630T194000
SUMMARY:REAL ESTATE & PERSONAL PROPERTY AUCTION
LOCATION:1407 NW Weatherstone Lane\, Blue Springs\, MO 64015\, US
DESCRIPTION:Patricia Silvernail Estate | Sharp 4 Bedroom True Ranch in Q
 uiet Neighborhood Plus Collectibles\, Vintage\, Furniture\, Jew
 elry\, Tools\, Appliances\, Home Decor\, Household Goods\, & Much
  More!
URL:https://www.auctionskc.com/auctions/detail/bw142431
SEQUENCE:1
END:VEVENT
END:VCALENDAR