BEGIN:VCALENDAR
VERSION:2.0
PRODID:-//ExpressionEngine Easy iCalendar plugin//NONSGML v2.0.0//EN
X-WR-TIMEZONE:America/Chicago
X-WR-CALNAME:Upcoming Auctions
BEGIN:VEVENT
UID:142580
DTSTAMP:20250622T110000
DTSTART:20250622T110000
DTEND:20250622T120000
SUMMARY:MEGA 2-RING LIVING ESTATE AUCTION
LOCATION:20012 NE 138th Street\, Kearney\, MO 64060\, US
DESCRIPTION:Living Estate of Gary & Linda Womack | ZTR Mower\, ATV\, Motor
 cycles\, Trailer\, Firearms\, Kewpie & Van Briggle Collections\,
  Collectibles\, Hunting/Fishing\, Furniture\, Tons of Tools\, Ho
 me Decor\, Household Goods & Much More!
URL:https://www.auctionskc.com/auctions/detail/bw142580
SEQUENCE:1
END:VEVENT
END:VCALENDAR