BEGIN:VCALENDAR
VERSION:2.0
PRODID:-//ExpressionEngine Easy iCalendar plugin//NONSGML v2.0.0//EN
X-WR-TIMEZONE:America/Chicago
X-WR-CALNAME:Upcoming Auctions
BEGIN:VEVENT
UID:142864
DTSTAMP:20250629T110000
DTSTART:20250629T110000
DTEND:20250629T131000
SUMMARY:REAL ESTATE & PERSONAL PROPERTY AUCTION
LOCATION:1019 SW Ingleside Place\, Lee's Summit\, MO 64081\, US
DESCRIPTION:Willis F. & Dixie L. Mothersbaugh Trust | Excellent Raised R
 anch Plus Firearms\, ZTR Mower\, Antiques\, Collectibles\, Furni
 ture\, Tools\, Home Decor\, Household Goods\, & Much More!
URL:https://www.auctionskc.com/auctions/detail/bw142864
SEQUENCE:1
END:VEVENT
END:VCALENDAR