BEGIN:VCALENDAR
VERSION:2.0
PRODID:-//ExpressionEngine Easy iCalendar plugin//NONSGML v2.0.0//EN
X-WR-TIMEZONE:America/Chicago
X-WR-CALNAME:Upcoming Auctions
BEGIN:VEVENT
UID:143518
DTSTAMP:20250708T173000
DTSTART:20250708T173000
DTEND:20250708T183000
SUMMARY:ESTATE AUCTION
LOCATION:2520 N. 35th Street\, St. Joseph\, MO 64506\, US
DESCRIPTION:Estate of William "Bill" Theodore Niemann | Collectibles\, Fu
 rniture\, Tools\, Appliances\, Home Decor\, Household Goods\, & M
 uch More!
URL:https://www.auctionskc.com/auctions/detail/bw143518
SEQUENCE:1
END:VEVENT
END:VCALENDAR