BEGIN:VCALENDAR
VERSION:2.0
PRODID:-//ExpressionEngine Easy iCalendar plugin//NONSGML v2.0.0//EN
X-WR-TIMEZONE:America/Chicago
X-WR-CALNAME:Upcoming Auctions
BEGIN:VEVENT
UID:143519
DTSTAMP:20250711T160000
DTSTART:20250711T160000
DTEND:20250711T170000
SUMMARY:HIGH END LIVING ESTATE AUCTION
LOCATION:11600 Summit Street\, Kansas City\, MO 64114\, US
DESCRIPTION:Living Estate of Neil Pollock | Collectibles\, Furniture\, Hom
 e Decor\, Outdoor Items\, Tools\, Household Goods\, & Much More!
URL:https://www.auctionskc.com/auctions/detail/bw143519
SEQUENCE:1
END:VEVENT
END:VCALENDAR