BEGIN:VCALENDAR
VERSION:2.0
PRODID:-//ExpressionEngine Easy iCalendar plugin//NONSGML v2.0.0//EN
X-WR-TIMEZONE:America/Chicago
X-WR-CALNAME:Upcoming Auctions
BEGIN:VEVENT
UID:144676
DTSTAMP:20250721T170000
DTSTART:20250721T170000
DTEND:20250721T180000
SUMMARY:ESTATE AUCTION
LOCATION:2718 S. Cedar Crest Terrace\, Independence\, MO 64057\, US
DESCRIPTION:Peggy Medina Estate | Collectibles\, Dolls\, Coins\, Jewelry\, T
 ools\, Yard Art\, Furniture\, Home Decor\, Household Goods\, & Mu
 ch More!
URL:https://www.auctionskc.com/auctions/detail/bw144676
SEQUENCE:1
END:VEVENT
END:VCALENDAR