BEGIN:VCALENDAR
VERSION:2.0
PRODID:-//ExpressionEngine Easy iCalendar plugin//NONSGML v2.0.0//EN
X-WR-TIMEZONE:America/Chicago
X-WR-CALNAME:Upcoming Auctions
BEGIN:VEVENT
UID:144677
DTSTAMP:20250717T180000
DTSTART:20250717T180000
DTEND:20250717T190000
SUMMARY:INDOOR ANTIQUE AUCTION
LOCATION:2605 St. Joseph Avenue\, St. Joseph\, MO 64505\, US
DESCRIPTION:Antiques\, Collectibles\, Glassware\, Advertising Items\, Vintag
 e Toys\, & Much More!
URL:https://www.auctionskc.com/auctions/detail/bw144677
SEQUENCE:1
END:VEVENT
END:VCALENDAR