BEGIN:VCALENDAR
VERSION:2.0
PRODID:-//ExpressionEngine Easy iCalendar plugin//NONSGML v2.0.0//EN
X-WR-TIMEZONE:America/Chicago
X-WR-CALNAME:Upcoming Auctions
BEGIN:VEVENT
UID:144678
DTSTAMP:20250724T160000
DTSTART:20250724T160000
DTEND:20250724T170000
SUMMARY:ESTATE AUCTION
LOCATION:25088 Hemphill Road\, Lawrence\, KS 66044\, US
DESCRIPTION:Robert Wilson Estate | Truck\, Lawn Tractors\, Firearms\, Gun S
 afe\, Collectibles\, Crocks\, Furniture\, Tools\, Appliances\, Hom
 e Decor\, Household Goods\, & Much More!
URL:https://www.auctionskc.com/auctions/detail/bw144678
SEQUENCE:1
END:VEVENT
END:VCALENDAR