BEGIN:VCALENDAR
VERSION:2.0
PRODID:-//ExpressionEngine Easy iCalendar plugin//NONSGML v2.0.0//EN
X-WR-TIMEZONE:America/Chicago
X-WR-CALNAME:Upcoming Auctions
BEGIN:VEVENT
UID:144815
DTSTAMP:20250726T120000
DTSTART:20250726T120000
DTEND:20250726T130000
SUMMARY:CLASSIC & MODERN VEHICLE AUCTION
LOCATION:1701 SW Gage Blvd.\, Topeka\, KS 66604\, US
DESCRIPTION:Jack L. Benge Estate | Collection of Classic to Modern Vehic
 les
URL:https://www.auctionskc.com/auctions/detail/bw144815
SEQUENCE:1
END:VEVENT
END:VCALENDAR