BEGIN:VCALENDAR
VERSION:2.0
PRODID:-//ExpressionEngine Easy iCalendar plugin//NONSGML v2.0.0//EN
X-WR-TIMEZONE:America/Chicago
X-WR-CALNAME:Upcoming Auctions
BEGIN:VEVENT
UID:145313
DTSTAMP:20250730T170000
DTSTART:20250730T170000
DTEND:20250730T180000
SUMMARY:LIVING ESTATE AUCTION
LOCATION:7605 Evanston Avenue\, Raytown\, MO 64138\, US
DESCRIPTION:Living Estate of David & Teresa Trinidad | Collectibles\, Fur
 niture\, Tools\, Home Decor\, Household Goods\, & Much More!
URL:https://www.auctionskc.com/auctions/detail/bw145313
SEQUENCE:1
END:VEVENT
END:VCALENDAR