BEGIN:VCALENDAR
VERSION:2.0
PRODID:-//ExpressionEngine Easy iCalendar plugin//NONSGML v2.0.0//EN
X-WR-TIMEZONE:America/Chicago
X-WR-CALNAME:Upcoming Auctions
BEGIN:VEVENT
UID:145321
DTSTAMP:20250731T180000
DTSTART:20250731T180000
DTEND:20250731T190000
SUMMARY:INDOOR ANTIQUE ESTATE AUCTION
LOCATION:2605 St. Joseph Avenue\, St. Joseph\, MO 64505\, US
DESCRIPTION:Multiple Sellers | Many Antiques & Collectibles\, Quilts\, Vin
 tage Toys\, Advertising Items\, & Much More!
URL:https://www.auctionskc.com/auctions/detail/bw145321
SEQUENCE:1
END:VEVENT
END:VCALENDAR