BEGIN:VCALENDAR
VERSION:2.0
PRODID:-//ExpressionEngine Easy iCalendar plugin//NONSGML v2.0.0//EN
X-WR-TIMEZONE:America/Chicago
X-WR-CALNAME:Upcoming Auctions
BEGIN:VEVENT
UID:149528
DTSTAMP:20251012T110000
DTSTART:20251012T110000
DTEND:20251012T120000
SUMMARY:ESTATE AUCTION
LOCATION:344 N. Eaton Drive\, Lawrence\, KS 66049\, US
DESCRIPTION:Estate of Dr. Robert & Norma Lee Chapin Hohn | Antiques\, Co
 llectibles\, Huge Vintage Toy Collection\, Jewelry\, Furniture\,
  Home Decor\, Household Goods\, & Much More!
URL:https://www.auctionskc.com/auctions/detail/bw149528
SEQUENCE:1
END:VEVENT
END:VCALENDAR