BEGIN:VCALENDAR
VERSION:2.0
PRODID:-//ExpressionEngine Easy iCalendar plugin//NONSGML v2.0.0//EN
X-WR-TIMEZONE:America/Chicago
X-WR-CALNAME:Upcoming Auctions
BEGIN:VEVENT
UID:150132
DTSTAMP:20251014T160000
DTSTART:20251014T160000
DTEND:20251014T170000
SUMMARY:EMERGENCY REAL ESTATE & PERSONAL PROPERTY AUCTION
LOCATION:25909 E. 203rd Street\, Pleasant Hill\, MO 64080\, US
DESCRIPTION:15 Acre Property w/ 1 1/2 Story Home & 2 Outbuildings Plus A
 ntiques\, Collectibles\, Jewelry\, Large Mickey Mouse Collectio
 n\, Furniture\, Home Decor\, Household Goods\, & Much More!
URL:https://www.auctionskc.com/auctions/detail/bw150132
SEQUENCE:1
END:VEVENT
END:VCALENDAR