BEGIN:VCALENDAR
VERSION:2.0
PRODID:-//ExpressionEngine Easy iCalendar plugin//NONSGML v2.0.0//EN
X-WR-TIMEZONE:America/Chicago
X-WR-CALNAME:Upcoming Auctions
BEGIN:VEVENT
UID:150134
DTSTAMP:20251015T170000
DTSTART:20251015T170000
DTEND:20251015T180000
SUMMARY:ESTATE AUCTION
LOCATION:To Be Announced!\, Lee's Summit\, MO 64063\, US
DESCRIPTION:Coming Soon! | 3 Vehicles\, ZTR Mower\, Furniture\, Tools\, Home
  Decor\, Household Goods\, & Much More!
URL:https://www.auctionskc.com/auctions/detail/bw150134
SEQUENCE:1
END:VEVENT
END:VCALENDAR