BEGIN:VCALENDAR
VERSION:2.0
PRODID:-//ExpressionEngine Easy iCalendar plugin//NONSGML v2.0.0//EN
X-WR-TIMEZONE:America/Chicago
X-WR-CALNAME:Upcoming Auctions
BEGIN:VEVENT
UID:151892
DTSTAMP:20251111T130000
DTSTART:20251111T130000
DTEND:20251111T140000
SUMMARY:EMERGENCY AUCTION
LOCATION:300 Vine Street\, Platte City\, MO 64079\, US
DESCRIPTION:Collectibles\, Furniture\, Appliances\, Tools\, Home Decor\, Hous
 ehold Goods\, & Much More!
URL:https://www.auctionskc.com/auctions/detail/bw151892
SEQUENCE:1
END:VEVENT
END:VCALENDAR