BEGIN:VCALENDAR
VERSION:2.0
PRODID:-//ExpressionEngine Easy iCalendar plugin//NONSGML v2.0.0//EN
X-WR-TIMEZONE:America/Chicago
X-WR-CALNAME:Upcoming Auctions
BEGIN:VEVENT
UID:152385
DTSTAMP:20251125T130100
DTSTART:20251125T130100
DTEND:20251125T140100
SUMMARY:REAL ESTATE & PERSONAL PROPERTY AUCTION
LOCATION:11520 E. Scarritt Avenue\, Sugar Creek\, MO 64054\, US
DESCRIPTION:NEW PHOTOS ADDED! Scott & Natalee Wagner | Charming Craftsma
 n Bungalow Plus Antiques\, Collectibles\, Furniture\, Tools\, Ho
 me Decor\, Household Goods\, & Much More!
URL:https://www.auctionskc.com/auctions/detail/bw152385
SEQUENCE:1
END:VEVENT
END:VCALENDAR