BEGIN:VCALENDAR
VERSION:2.0
PRODID:-//ExpressionEngine Easy iCalendar plugin//NONSGML v2.0.0//EN
X-WR-TIMEZONE:America/Chicago
X-WR-CALNAME:Upcoming Auctions
BEGIN:VEVENT
UID:160713
DTSTAMP:20260426T110000
DTSTART:20260426T110000
DTEND:20260426T120000
SUMMARY:HUGE LIVING ESTATE FARM AUCTION
LOCATION:34701 E. 155th Street\, Pleasant Hill\, MO 64080\, US
DESCRIPTION:Mike & Arlene Casey Living Estate | Vehicles\, UTV\, Tractors\,
  Farm Equipment\, Guns\, Collectibles\, Coins\, Jewelry\, Furnitu
 re\, Appliances\, Outdoor Items\, Tools\, Home Decor\, Household 
 Goods\, & Much More!
URL:https://www.auctionskc.com/auctions/detail/bw160713
SEQUENCE:1
END:VEVENT
END:VCALENDAR