BEGIN:VCALENDAR
VERSION:2.0
PRODID:-//ExpressionEngine Easy iCalendar plugin//NONSGML v2.0.1//EN
X-WR-TIMEZONE:America/Chicago
X-WR-CALNAME:Upcoming Auctions
BEGIN:VEVENT
UID:94513
DTSTAMP:20230607T183000
DTSTART:20230607T183000
DTEND:20230607T193000
SUMMARY:Annual
LOCATION:6700 N. National Drive\, Parkville\, MO 64152\, US
DESCRIPTION:Annual "White Alloe" Golf Calcutta Auction | The National Go
 lf Club of Kansas City
URL:https://www.auctionskc.com/auctions/detail/bw94513
SEQUENCE:1
END:VEVENT
END:VCALENDAR