BEGIN:VCALENDAR
VERSION:2.0
PRODID:-//ExpressionEngine Easy iCalendar plugin//NONSGML v2.0.1//EN
X-WR-TIMEZONE:America/Chicago
X-WR-CALNAME:Upcoming Auctions
BEGIN:VEVENT
UID:94514
DTSTAMP:20230622T183000
DTSTART:20230622T183000
DTEND:20230622T193000
SUMMARY:Annual
LOCATION:6415 N. National Drive\, Kansas City\, MO 64152\, US
DESCRIPTION:Annual "Windbrooker" Golf Calcutta Auction | The Deuce at th
 e National Golf Club of Kansas City
URL:https://www.auctionskc.com/auctions/detail/bw94514
SEQUENCE:1
END:VEVENT
END:VCALENDAR