BEGIN:VCALENDAR
VERSION:2.0
PRODID:-//ExpressionEngine Easy iCalendar plugin//NONSGML v2.0.0//EN
X-WR-TIMEZONE:America/Chicago
X-WR-CALNAME:Upcoming Auctions
BEGIN:VEVENT
UID:97420
DTSTAMP:20231231T232700
DTSTART:20231231T232700
DTEND:20240101T002700
SUMMARY:YOUR AUCTION HERE!
LOCATION:{location}
DESCRIPTION:Give us a call today to schedule your free\, no obligation a
 uction consultation! Legacy Auction Group & Realty provides 
 sellers with custom solutions based on their own unique need
 s.
URL:https://www.auctionskc.com/auctions/detail/bw97420
SEQUENCE:1
END:VEVENT
END:VCALENDAR