BEGIN:VCALENDAR
VERSION:2.0
PRODID:-//ExpressionEngine Easy iCalendar plugin//NONSGML v2.0.1//EN
X-WR-TIMEZONE:America/Chicago
X-WR-CALNAME:Upcoming Auctions
BEGIN:VEVENT
UID:98106
DTSTAMP:20230501T190000
DTSTART:20230501T190000
DTEND:20230501T200000
SUMMARY:Crop Insurance Professionals Association Annual Fundraising 
 Auction
LOCATION:401 Ward Parkway\, Kansas City\, MO 64112\, US
DESCRIPTION:Crop Insurance Professionals Association | Annual Fundraisin
 g Auction
URL:https://www.auctionskc.com/auctions/detail/bw98106
SEQUENCE:1
END:VEVENT
END:VCALENDAR