BEGIN:VCALENDAR
VERSION:2.0
PRODID:-//ExpressionEngine Easy iCalendar plugin//NONSGML v2.0.1//EN
X-WR-TIMEZONE:America/Chicago
X-WR-CALNAME:Upcoming Auctions
BEGIN:VEVENT
UID:99050
DTSTAMP:20230506T103000
DTSTART:20230506T103000
DTEND:20230506T113000
SUMMARY:ESTATE AUCTION
LOCATION:725 NW 46th Street\, Topeka\, KS 66617\, US
DESCRIPTION:Donald J. Smarker Estate | Classic Vehicles\, Shop Tools\, Aut
 omotive Related Collectibles\, & Much More!
URL:https://www.auctionskc.com/auctions/detail/bw99050
SEQUENCE:1
END:VEVENT
END:VCALENDAR